BEGIN:VCALENDAR
VERSION:2.0
PRODID:-//KAMANi e.V. Karlsruhe - ECPv6.15.20//NONSGML v1.0//EN
CALSCALE:GREGORIAN
METHOD:PUBLISH
X-ORIGINAL-URL:https://kamani.de
X-WR-CALDESC:Veranstaltungen für KAMANi e.V. Karlsruhe
REFRESH-INTERVAL;VALUE=DURATION:PT1H
X-Robots-Tag:noindex
X-PUBLISHED-TTL:PT1H
BEGIN:VTIMEZONE
TZID:Europe/Berlin
BEGIN:DAYLIGHT
TZOFFSETFROM:+0100
TZOFFSETTO:+0200
TZNAME:CEST
DTSTART:20250330T010000
END:DAYLIGHT
BEGIN:STANDARD
TZOFFSETFROM:+0200
TZOFFSETTO:+0100
TZNAME:CET
DTSTART:20251026T010000
END:STANDARD
BEGIN:DAYLIGHT
TZOFFSETFROM:+0100
TZOFFSETTO:+0200
TZNAME:CEST
DTSTART:20260329T010000
END:DAYLIGHT
BEGIN:STANDARD
TZOFFSETFROM:+0200
TZOFFSETTO:+0100
TZNAME:CET
DTSTART:20261025T010000
END:STANDARD
BEGIN:DAYLIGHT
TZOFFSETFROM:+0100
TZOFFSETTO:+0200
TZNAME:CEST
DTSTART:20270328T010000
END:DAYLIGHT
BEGIN:STANDARD
TZOFFSETFROM:+0200
TZOFFSETTO:+0100
TZNAME:CET
DTSTART:20271031T010000
END:STANDARD
END:VTIMEZONE
BEGIN:VEVENT
DTSTART;VALUE=DATE:20260425
DTEND;VALUE=DATE:20260426
DTSTAMP:20260422T122225
CREATED:20260104T192310Z
LAST-MODIFIED:20260104T192310Z
UID:1588-1777075200-1777161599@kamani.de
SUMMARY:🌟 KAMANi (285.)
DESCRIPTION:Das monatliche Treffen für Anime- und Manga-Fans.
URL:https://kamani.de/event/%f0%9f%8c%9f-kamani-285/
END:VEVENT
BEGIN:VEVENT
DTSTART;VALUE=DATE:20260530
DTEND;VALUE=DATE:20260531
DTSTAMP:20260422T122225
CREATED:20260104T192332Z
LAST-MODIFIED:20260104T192332Z
UID:1590-1780099200-1780185599@kamani.de
SUMMARY:🌟 KAMANi (286.)
DESCRIPTION:Das monatliche Treffen für Anime- und Manga-Fans.
URL:https://kamani.de/event/%f0%9f%8c%9f-kamani-286/
END:VEVENT
BEGIN:VEVENT
DTSTART;VALUE=DATE:20260627
DTEND;VALUE=DATE:20260628
DTSTAMP:20260422T122225
CREATED:20260104T192408Z
LAST-MODIFIED:20260104T192408Z
UID:1593-1782518400-1782604799@kamani.de
SUMMARY:🌟 KAMANi (287.)
DESCRIPTION:Das monatliche Treffen für Anime- und Manga-Fans.
URL:https://kamani.de/event/%f0%9f%8c%9f-kamani-287/
END:VEVENT
BEGIN:VEVENT
DTSTART;VALUE=DATE:20260725
DTEND;VALUE=DATE:20260726
DTSTAMP:20260422T122225
CREATED:20260104T192433Z
LAST-MODIFIED:20260104T192433Z
UID:1596-1784937600-1785023999@kamani.de
SUMMARY:🌟 KAMANi (288.)
DESCRIPTION:Das monatliche Treffen für Anime- und Manga-Fans.
URL:https://kamani.de/event/%f0%9f%8c%9f-kamani-288/
END:VEVENT
BEGIN:VEVENT
DTSTART;VALUE=DATE:20260829
DTEND;VALUE=DATE:20260830
DTSTAMP:20260422T122225
CREATED:20260104T192508Z
LAST-MODIFIED:20260104T192508Z
UID:1599-1787961600-1788047999@kamani.de
SUMMARY:🌟 KAMANi (289.)
DESCRIPTION:Das monatliche Treffen für Anime- und Manga-Fans.
URL:https://kamani.de/event/%f0%9f%8c%9f-kamani-289/
END:VEVENT
BEGIN:VEVENT
DTSTART;VALUE=DATE:20260926
DTEND;VALUE=DATE:20260927
DTSTAMP:20260422T122225
CREATED:20260104T192538Z
LAST-MODIFIED:20260104T192538Z
UID:1604-1790380800-1790467199@kamani.de
SUMMARY:🌟 KAMANi (290.)
DESCRIPTION:Das monatliche Treffen für Anime- und Manga-Fans.
URL:https://kamani.de/event/%f0%9f%8c%9f-kamani-290/
END:VEVENT
BEGIN:VEVENT
DTSTART;VALUE=DATE:20261031
DTEND;VALUE=DATE:20261101
DTSTAMP:20260422T122225
CREATED:20260104T192532Z
LAST-MODIFIED:20260104T192720Z
UID:1603-1793404800-1793491199@kamani.de
SUMMARY:🌟 KAMANi (291.)
DESCRIPTION:Das monatliche Treffen für Anime- und Manga-Fans.
URL:https://kamani.de/event/%f0%9f%8c%9f-kamani-291/
END:VEVENT
BEGIN:VEVENT
DTSTART;VALUE=DATE:20261128
DTEND;VALUE=DATE:20261129
DTSTAMP:20260422T122225
CREATED:20260104T192457Z
LAST-MODIFIED:20260104T192644Z
UID:1600-1795824000-1795910399@kamani.de
SUMMARY:🌟 KAMANi (292.)
DESCRIPTION:Das monatliche Treffen für Anime- und Manga-Fans.
URL:https://kamani.de/event/%f0%9f%8c%9f-kamani-292/
END:VEVENT
BEGIN:VEVENT
DTSTART;VALUE=DATE:20261226
DTEND;VALUE=DATE:20261227
DTSTAMP:20260422T122225
CREATED:20260104T192357Z
LAST-MODIFIED:20260104T192625Z
UID:1591-1798243200-1798329599@kamani.de
SUMMARY:🌟 KAMANi (293.)
DESCRIPTION:Das monatliche Treffen für Anime- und Manga-Fans.
URL:https://kamani.de/event/kamani-293/
END:VEVENT
END:VCALENDAR